BEGIN:VCALENDAR
VERSION:2.0
PRODID:-//ChamberMaster//Event Calendar 2.0//EN
METHOD:PUBLISH
X-PUBLISHED-TTL:P1H
REFRESH-INTERVAL:P1H
CALSCALE:GREGORIAN
BEGIN:VTIMEZONE
TZID:America/New_York
BEGIN:DAYLIGHT
RRULE:FREQ=YEARLY;BYMONTH=3;BYDAY=2SU
DTSTART:20070101T000000
TZOFFSETFROM:-0500
TZOFFSETTO:-0400
TZNAME:Eastern Daylight Time
END:DAYLIGHT
BEGIN:STANDARD
RRULE:FREQ=YEARLY;BYMONTH=11;BYDAY=1SU
DTSTART:20070101T000000
TZOFFSETFROM:-0400
TZOFFSETTO:-0500
TZNAME:Eastern Standard Time
END:STANDARD
END:VTIMEZONE
BEGIN:VEVENT
DTSTART;TZID=America/New_York:20250207T120000
DTEND;TZID=America/New_York:20250207T130000
X-MICROSOFT-CDO-ALLDAYEVENT:FALSE
SUMMARY:Black Youth Excellence: Creating Equitable Schools for their Success
DESCRIPTION:Join us for an engaging webinar on the need for equitable schools\, and the crucial role that EPiC\, a community-rooted and community-driven organization dedicated to improving outcomes for Black youth\, is playing in preparing Black youth for the future.
X-ALT-DESC;FMTTYPE=text/html:Join us for an engaging webinar on the need for equitable schools\, and the crucial role that EPiC\, a community-rooted and community-driven organization dedicated to improving outcomes for Black youth\, is playing in preparing Black youth for the future.
LOCATION:
UID:e.2103.1101284
SEQUENCE:3
DTSTAMP:20260420T141240Z
URL:https://members.gdbcc.org/events/Details/black-youth-excellence-creating-equitable-schools-for-their-success-1273626?sourceTypeId=Hub
END:VEVENT
END:VCALENDAR
